BEGIN:VCALENDAR
VERSION:2.0
CALSCALE:GREGORIAN
PRODID:MDA iCal Generator
BEGIN:VTIMEZONE
TZID:Asia/Singapore
BEGIN:STANDARD
TZOFFSETFROM:+0800
DTSTART:19890917T000000
TZNAME:GMT+8
TZOFFSETTO:+0800
END:STANDARD
END:VTIMEZONE
BEGIN:VEVENT
UID:3703b862fbd60d0c561df968cd3a941f
SUMMARY:Tube Southeast Asia 2027
DESCRIPTION:16th International Tube & Pipe Trade Fair for Southeast Asia
LOCATION:BITEC BANGKOK
URL;VALUE=URI:https:www.tube-southeastasia.com
DTSTART;TZID=Asia/Singapore:20270915T100000
DTEND;TZID=Asia/Singapore:20270917T170000
DTSTAMP:20260422T183651
END:VEVENT
END:VCALENDAR